BEGIN:VCALENDAR
VERSION:2.0
PRODID:DPCALENDAR
CALSCALE:GREGORIAN
BEGIN:VTIMEZONE
TZID:Asia/Dili
END:VTIMEZONE
X-WR-TIMEZONE:Asia/Dili
BEGIN:VEVENT
DTSTART;TZID=Asia/Dili:20190717T150000
DTEND;TZID=Asia/Dili:20190717T160000
UID:9D99C5EF-2941-4861-BAEE-C0FC8461067A
SUMMARY:Talkshow - Profesionalizmu no independénsia ekonomia ba órgaun no meiu komunikasaun sosiál 
CREATED:20190711T022050Z
DTSTAMP:20190711T022050Z
DESCRIPTION: \NDEBATE TELEVIZIVU “LIBERDADE IMPRENSA HA’U NIA LIBERDADE,” IHA KANÁL RTTL,EP.\N\N\N\N\NOn-air :\N17/7/2019\N\N\NProfesionalizmu no independénsia ekonomia ba órgaun no meiu komunikasaun sosiál\N\N\NDiretór DCSRIC Altino d.c Freitas\NAsesór Rigobertu Monteiru\N\N\NCI\Nmedia nain\Npraktisi media KSTL\N\N\N\N\NON AIR iha RTTL.EP Oras :\NDader : 10:00 - 11:00\NKalan : 21:00 - 22:00
X-ALT-DESC;FMTTYPE=text/html:<p> </p><p><strong>DEBATE TELEVIZIVU “LIBERDADE IMPRENSA HA’U NIA LIBERDADE,” IHA KANÁL RTTL,EP.</strong></p><table width="680"><tbody><tr><td width="104"><p>On-air :</p><p>17/7/2019</p></td><td width="227"><p>Profesionalizmu no independénsia ekonomia ba órgaun no meiu komunikasaun sosiál</p></td><td width="217"><p>Diretór DCSRIC Altino d.c Freitas</p><p>Asesór Rigobertu Monteiru</p></td><td width="132"><p>CI</p><p>media nain</p><p>praktisi media KSTL</p></td></tr></tbody></table><p>ON AIR iha RTTL.EP Oras :</p><p>Dader : 10:00 - 11:00</p><p>Kalan : 21:00 - 22:00</p>
LOCATION:Caicoli\, Dili\, Timor-Leste Timor-Leste
GEO:-8.55685570;125.56031430
LAST-MODIFIED:20190711T063942Z
SEQUENCE:15532
X-ACCESS:1
X-HITS:70
X-URL:
X-COLOR:9c9c00
X-SHOW-END-TIME:1
END:VEVENT
BEGIN:VEVENT
DTSTART;TZID=Asia/Dili:20190731T100000
DTEND;TZID=Asia/Dili:20190731T110000
UID:DEAE7573-6DA6-4C10-A0E5-3F5FA121E4DC
SUMMARY:Talkshow - Progresu ba diskusaun draft lei radio no televizaun
CREATED:20190711T023724Z
DTSTAMP:20190711T023724Z
DESCRIPTION:DEBATE TELEVIZIVU “LIBERDADE IMPRENSA HA’U NIA LIBERDADE,” IHA KANÁL RTTL,EP.\N\N\N\N\NOn-air :\N31/7/2019\N\N\NImportánsia existensia asosiasaun nain ba media\N\N\NDiretór DCSRIC Altino d.c Freitas\NAsesór Rigobertu Monteiru\N\N\NCI\NMídia nain\Nasosiasaun jornalista ida SECOMS\N\N\N\N\NON AIR iha RTTL.EP Oras :\NDader : 10:00 - 11:00\NKalan : 21:00 - 22:00
X-ALT-DESC;FMTTYPE=text/html:<p><strong>DEBATE TELEVIZIVU “LIBERDADE IMPRENSA HA’U NIA LIBERDADE,” IHA KANÁL RTTL,EP.</strong></p><table width="680"><tbody><tr><td width="104"><p>On-air :</p><p>31/7/2019</p></td><td width="227"><p>Importánsia existensia asosiasaun nain ba media</p></td><td width="217"><p>Diretór DCSRIC Altino d.c Freitas</p><p>Asesór Rigobertu Monteiru</p></td><td width="132"><p>CI</p><p>Mídia nain</p><p>asosiasaun jornalista ida SECOMS</p></td></tr></tbody></table><p>ON AIR iha RTTL.EP Oras :</p><p>Dader : 10:00 - 11:00</p><p>Kalan : 21:00 - 22:00</p>
LOCATION:Caicoli\, Dili\, Timor-Leste Timor-Leste
GEO:-8.55685570;125.56031430
LAST-MODIFIED:20190711T064105Z
SEQUENCE:14621
X-ACCESS:1
X-HITS:76
X-URL:
X-COLOR:9c9c00
X-SHOW-END-TIME:1
END:VEVENT
BEGIN:VEVENT
DTSTART;TZID=Asia/Dili:20190814T100000
DTEND;TZID=Asia/Dili:20190814T110000
UID:A9CBEE78-50E9-4963-87B2-B5E13946E9CD
SUMMARY:Talkshow - Importánsia existensia asosiasaun nain ba media
CREATED:20190711T024551Z
DTSTAMP:20190711T024551Z
DESCRIPTION:DEBATE TELEVIZIVU “LIBERDADE IMPRENSA HA’U NIA LIBERDADE,” IHA KANÁL RTTL,EP.\N\N\N\N\N \NOn-air :\N14/8/2019\N\N\NImportánsia existensia asosiasaun nain ba media\N\N\NDiretór DCSRIC Altino d.c Freitas\NAsesór Rigobertu Monteiru\N\N\NCI\Nmedia nain\Npraktisi media KSTL\N\N\N\N\NON AIR iha RTTL.EP Oras :\NDader : 10:00 - 11:00\NKalan : 21:00 - 22:00
X-ALT-DESC;FMTTYPE=text/html:<p><strong>DEBATE TELEVIZIVU “LIBERDADE IMPRENSA HA’U NIA LIBERDADE,” IHA KANÁL RTTL,EP.</strong></p><table width="680"><tbody><tr><td width="104"><p> </p><p>On-air :</p><p>14/8/2019</p></td><td width="227"><p>Importánsia existensia asosiasaun nain ba media</p></td><td width="217"><p>Diretór DCSRIC Altino d.c Freitas</p><p>Asesór Rigobertu Monteiru</p></td><td width="132"><p>CI</p><p>media nain</p><p>praktisi media KSTL</p></td></tr></tbody></table><p>ON AIR iha RTTL.EP Oras :</p><p>Dader : 10:00 - 11:00</p><p>Kalan : 21:00 - 22:00</p>
LOCATION:Caicoli\, Dili\, Timor-Leste Timor-Leste
GEO:-8.55685570;125.56031430
LAST-MODIFIED:20190711T064153Z
SEQUENCE:14162
X-ACCESS:1
X-HITS:49
X-URL:
X-COLOR:9c9c00
X-SHOW-END-TIME:1
END:VEVENT
BEGIN:VEVENT
DTSTART;TZID=Asia/Dili:20190828T100000
DTEND;TZID=Asia/Dili:20190828T110000
UID:1B3BC69F-2AC0-472A-8827-B05C19729945
SUMMARY:Talkshow - Loron mundiál ba fotógrafu
CREATED:20190711T024947Z
DTSTAMP:20190711T024947Z
DESCRIPTION: \NDEBATE TELEVIZIVU “LIBERDADE IMPRENSA HA’U NIA LIBERDADE,” IHA KANÁL RTTL,EP.\N\N\N\N\NOn-air :\N28/8/2019\N\N\NLoron mundiál ba fotógrafu\N\N\NDiretór DCSRIC Altino d.c Freitas\NAsesór Rigobertu Monteiru\N\N\NCI\NTILPA\Njornalista (Photographer)\N\N\N\N\NON AIR iha RTTL.EP Oras :\NDader : 10:00 - 11:00\NKalan : 21:00 - 22:00\N 
X-ALT-DESC;FMTTYPE=text/html:<p> </p><p><strong>DEBATE TELEVIZIVU “LIBERDADE IMPRENSA HA’U NIA LIBERDADE,” IHA KANÁL RTTL,EP.</strong></p><table style="width: 665.55px;"><tbody><tr><td style="width: 101px;"><p>On-air :</p><p>28/8/2019</p></td><td style="width: 214px;"><p>Loron mundiál ba fotógrafu</p></td><td style="width: 205px;"><p>Diretór DCSRIC Altino d.c Freitas</p><p>Asesór Rigobertu Monteiru</p></td><td style="width: 115.55px;"><p>CI</p><p>TILPA</p><p>jornalista (Photographer)</p></td></tr></tbody></table><p>ON AIR iha RTTL.EP Oras :</p><p>Dader : 10:00 - 11:00</p><p>Kalan : 21:00 - 22:00</p><p> </p>
LOCATION:Caicoli\, Dili\, Timor-Leste Timor-Leste
GEO:-8.55685570;125.56031430
LAST-MODIFIED:20190711T064431Z
SEQUENCE:14084
X-ACCESS:1
X-HITS:59
X-URL:
X-COLOR:9c9c00
X-SHOW-END-TIME:1
END:VEVENT
BEGIN:VEVENT
DTSTART;TZID=Asia/Dili:20190911T100000
DTEND;TZID=Asia/Dili:20190911T110000
UID:45FF1B91-7C7A-4010-8FF8-3E0E4EBCBEB6
SUMMARY:Talkshow - Editor Club
CREATED:20190711T025359Z
DTSTAMP:20190711T025359Z
DESCRIPTION: \NDEBATE TELEVIZIVU “LIBERDADE IMPRENSA HA’U NIA LIBERDADE,” IHA KANÁL RTTL,EP.\N\N\N\N\NOn-air :\N11/9/2019\N\N\NEditor Club\N\N\NDiretór DCSRIC Altino d.c Freitas\NAsesór Rigobertu Monteiru\N\N\NCI\NXefe redasaun\NAJTL\N\N\N\N\NON AIR iha RTTL.EP Oras :\NDader : 10:00 - 11:00\NKalan : 21:00 - 22:00\N 
X-ALT-DESC;FMTTYPE=text/html:<p> </p><p><strong>DEBATE TELEVIZIVU “LIBERDADE IMPRENSA HA’U NIA LIBERDADE,” IHA KANÁL RTTL,EP.</strong></p><table width="680"><tbody><tr><td width="104"><p>On-air :</p><p>11/9/2019</p></td><td width="227"><p>Editor Club</p></td><td width="217"><p>Diretór DCSRIC Altino d.c Freitas</p><p>Asesór Rigobertu Monteiru</p></td><td width="132"><p>CI</p><p>Xefe redasaun</p><p>AJTL</p></td></tr></tbody></table><p>ON AIR iha RTTL.EP Oras :</p><p>Dader : 10:00 - 11:00</p><p>Kalan : 21:00 - 22:00</p><p> </p>
LOCATION:Caicoli\, Dili\, Timor-Leste Timor-Leste
GEO:-8.55685570;125.56031430
LAST-MODIFIED:20190711T064516Z
SEQUENCE:13877
X-ACCESS:1
X-HITS:66
X-URL:
X-COLOR:9c9c00
X-SHOW-END-TIME:1
END:VEVENT
BEGIN:VEVENT
DTSTART;TZID=Asia/Dili:20190925T100000
DTEND;TZID=Asia/Dili:20190925T110000
UID:5F15621D-F1AB-49F0-8808-1E85E35AAF11
SUMMARY:Talkshow - Konsellu Redasaun Mídia
CREATED:20190711T054755Z
DTSTAMP:20190711T054755Z
DESCRIPTION: \NDEBATE TELEVIZIVU “LIBERDADE IMPRENSA HA’U NIA LIBERDADE,” IHA KANÁL RTTL,EP.\N\N\N\N\NOn-air :\N25/9/2019\N\N\NKonsellu Redasaun Mídia\N\N\NDiretór DCSRIC Altino d.c Freitas\NAsesór Rigobertu Monteiru\N\N\NCI\NTLPU\NDiretór Media\NJSMP\N\N\N\N\NON AIR iha RTTL.EP Oras :\NDader : 10:00 - 11:00\NKalan : 21:00 - 22:00\N 
X-ALT-DESC;FMTTYPE=text/html:<p> </p><p><strong>DEBATE TELEVIZIVU “LIBERDADE IMPRENSA HA’U NIA LIBERDADE,” IHA KANÁL RTTL,EP.</strong></p><table width="680"><tbody><tr><td width="104"><p>On-air :</p><p>25/9/2019</p></td><td width="227"><p>Konsellu Redasaun Mídia</p></td><td width="217"><p>Diretór DCSRIC Altino d.c Freitas</p><p>Asesór Rigobertu Monteiru</p></td><td width="132"><p>CI</p><p>TLPU</p><p>Diretór Media</p><p>JSMP</p></td></tr></tbody></table><p>ON AIR iha RTTL.EP Oras :</p><p>Dader : 10:00 - 11:00</p><p>Kalan : 21:00 - 22:00</p><p> </p>
LOCATION:Caicoli\, Dili\, Timor-Leste Timor-Leste
GEO:-8.55685570;125.56031430
LAST-MODIFIED:20190711T064602Z
SEQUENCE:3487
X-ACCESS:1
X-HITS:38
X-URL:
X-COLOR:9c9c00
X-SHOW-END-TIME:1
END:VEVENT
BEGIN:VEVENT
DTSTART;TZID=Asia/Dili:20191009T100000
DTEND;TZID=Asia/Dili:20191009T110000
UID:55162579-1393-4262-9C51-E678875ED2D7
SUMMARY:Talkshow - Asesu televizivu iha ambitu komemorasaun Loron mundiál televizivu
CREATED:20190711T065602Z
DTSTAMP:20190711T065602Z
DESCRIPTION:Programa Debate Televizivu “Liberdade Imprensa Ha’u Nia Liberdade,” iha kanál RTTL,EP.\N\N\N\N\NOn-air :\N9/10/2019\N\N\NAsesu televizivu iha ambitu komemorasaun Loron mundiál televizivu\N\N\NDiretór DCSRIC Altino d.c Freitas\NAsesór Rigobertu Monteiru\N\N\NCI\NSecoms\NRTTL,EP\NSociadade Civil\N\N\N\N\NON AIR iha RTTL.EP Oras :\NDader : 10:00 - 11:00\NKalan : 21:00 - 22:00
X-ALT-DESC;FMTTYPE=text/html:<p><strong>Programa Debate Televizivu “Liberdade Imprensa Ha’u Nia Liberdade,” iha kanál RTTL,EP.</strong></p><table width="680"><tbody><tr><td width="104"><br /><p>On-air :</p><p>9/10/2019</p></td><td width="227"><p>Asesu televizivu iha ambitu komemorasaun Loron mundiál televizivu</p></td><td width="217"><p>Diretór DCSRIC Altino d.c Freitas</p><p>Asesór Rigobertu Monteiru</p></td><td width="132"><p>CI</p><p>Secoms</p><p>RTTL,EP</p><p>Sociadade Civil</p></td></tr></tbody></table><p>ON AIR iha RTTL.EP Oras :</p><p>Dader : 10:00 - 11:00</p><p>Kalan : 21:00 - 22:00</p>
LOCATION:Caicoli\, Dili\, Timor-Leste Timor-Leste
GEO:-8.55685570;125.56031430
X-ACCESS:1
X-HITS:58
X-URL:
X-COLOR:9c9c00
X-SHOW-END-TIME:1
END:VEVENT
BEGIN:VEVENT
DTSTART;TZID=Asia/Dili:20191023T100000
DTEND;TZID=Asia/Dili:20191023T110000
UID:050DCD5C-07BA-4114-983C-867524623B1D
SUMMARY:Talkshow - Reportajen sensivel ba jéneru
CREATED:20190712T012946Z
DTSTAMP:20190712T012946Z
DESCRIPTION:Programa Debate Televizivu “Liberdade Imprensa Ha’u Nia Liberdade,” iha kanál RTTL,EP.\N \N\N\N\N\NOn-air :\N23/10/2019\N\N\NReportajen sensivel ba jéneru\N\N\NDiretór DCSRIC Altino d.c Freitas\NAsesór Rigobertu Monteiru\N\N\NCI\NXefe Redasaun\NSEII\N\N\N\N\NON AIR iha RTTL.EP Oras :\NDader : 10:00 - 11:00\NKalan : 21:00 - 22:00
X-ALT-DESC;FMTTYPE=text/html:<p><strong>Programa Debate Televizivu “Liberdade Imprensa Ha’u Nia Liberdade,” iha kanál RTTL,EP.</strong></p><p> </p><table width="680"><tbody><tr><td width="104"><br /><p>On-air :</p><p>23/10/2019</p></td><td width="227"><p>Reportajen sensivel ba jéneru</p></td><td width="217"><p>Diretór DCSRIC Altino d.c Freitas</p><p>Asesór Rigobertu Monteiru</p></td><td width="132"><p>CI</p><p>Xefe Redasaun</p><p>SEII</p></td></tr></tbody></table><p>ON AIR iha RTTL.EP Oras :</p><p>Dader : 10:00 - 11:00</p><p>Kalan : 21:00 - 22:00</p>
LOCATION:Caicoli\, Dili\, Timor-Leste Timor-Leste
GEO:-8.55685570;125.56031430
X-ACCESS:1
X-HITS:43
X-URL:
X-COLOR:9c9c00
X-SHOW-END-TIME:1
END:VEVENT
BEGIN:VEVENT
DTSTART;TZID=Asia/Dili:20191106T100000
DTEND;TZID=Asia/Dili:20191106T110000
UID:29FAC59C-3D5D-4907-BC68-DD60036A1CB5
SUMMARY:Talkshow - Reportajen sensivel ba asuntu regional
CREATED:20190712T013406Z
DTSTAMP:20190712T013406Z
DESCRIPTION:Programa Debate Televizivu “Liberdade Imprensa Ha’u Nia Liberdade,” iha kanál RTTL,EP.\N \N\N\N\N\NOn-air :\N6/11/2019\N\N\NReportajen sensivel ba asuntu regional\N\N\NDiretór DCSRIC Altino d.c Freitas\NAsesór Rigobertu Monteiru\N\N\NCI\NMedia nain\NSECOMS\N\N\N\N\NON AIR iha RTTL.EP Oras :\NDader : 10:00 - 11:00\NKalan : 21:00 - 22:00
X-ALT-DESC;FMTTYPE=text/html:<p><strong>Programa Debate Televizivu “Liberdade Imprensa Ha’u Nia Liberdade,” iha kanál RTTL,EP.</strong></p><p><strong> </strong></p><table width="680"><tbody><tr><td width="104"><br /><p>On-air :</p><p>6/11/2019</p></td><td width="227"><p>Reportajen sensivel ba asuntu regional</p></td><td width="217"><p>Diretór DCSRIC Altino d.c Freitas</p><p>Asesór Rigobertu Monteiru</p></td><td width="132"><p>CI</p><p>Media nain</p><p>SECOMS</p></td></tr></tbody></table><p>ON AIR iha RTTL.EP Oras :</p><p>Dader : 10:00 - 11:00</p><p>Kalan : 21:00 - 22:00</p>
LOCATION:Caicoli\, Dili\, Timor-Leste Timor-Leste
GEO:-8.55685570;125.56031430
X-ACCESS:1
X-HITS:42
X-URL:
X-COLOR:9c9c00
X-SHOW-END-TIME:1
END:VEVENT
BEGIN:VEVENT
DTSTART;TZID=Asia/Dili:20191115T150000
DTEND;TZID=Asia/Dili:20191115T160000
UID:1B9F3F81-BC6A-4D6F-A4EA-1DDDB603F293
SUMMARY:Debate Televizivu Prezidente CI ho Dr.Horta
CREATED:20191024T013436Z
DTSTAMP:20191024T013436Z
DESCRIPTION:
X-ALT-DESC;FMTTYPE=text/html:
LOCATION:Caicoli\, Dili\, Timor-Leste Timor-Leste
GEO:-8.55685570;125.56031430
LAST-MODIFIED:20191024T013503Z
SEQUENCE:27
X-ACCESS:1
X-HITS:16
X-URL:
X-COLOR:9c9c00
X-SHOW-END-TIME:1
END:VEVENT
BEGIN:VEVENT
DTSTART;TZID=Asia/Dili:20191120T100000
DTEND;TZID=Asia/Dili:20191120T110000
UID:8AD5190F-3E25-4A18-BEAD-56F1DEC66889
SUMMARY:Talkshow - Bem estar jornalista sira nian
CREATED:20190712T014327Z
DTSTAMP:20190712T014327Z
DESCRIPTION: \NPrograma Debate Televizivu “Liberdade Imprensa Ha’u Nia Liberdade,” iha kanál RTTL,EP.\N\N\N\N\NOn-air :\N20/11/2019\N\N\NBem estar jornalista sira nian\N\N\NDiretór DCSRIC Altino d.c Freitas\NAsesór Rigobertu Monteiru\N\N\NCI\NSECOMS\NMedia nain\NLaureadu Novel da Pas\N\N\N\N\NON AIR iha RTTL.EP Oras :\NDader : 10:00 - 11:00\NKalan : 21:00 - 22:00
X-ALT-DESC;FMTTYPE=text/html:<p> </p><p><strong>Programa Debate Televizivu “Liberdade Imprensa Ha’u Nia Liberdade,” iha kanál RTTL,EP.</strong></p><table width="680"><tbody><tr><td width="104"><br /><p>On-air :</p><p>20/11/2019</p></td><td width="227"><p>Bem estar jornalista sira nian</p></td><td width="217"><p>Diretór DCSRIC Altino d.c Freitas</p><p>Asesór Rigobertu Monteiru</p></td><td width="132"><p>CI</p><p>SECOMS</p><p>Media nain</p><p>Laureadu Novel da Pas</p></td></tr></tbody></table><p>ON AIR iha RTTL.EP Oras :</p><p>Dader : 10:00 - 11:00</p><p>Kalan : 21:00 - 22:00</p>
LOCATION:Caicoli\, Dili\, Timor-Leste Timor-Leste
GEO:-8.55685570;125.56031430
X-ACCESS:1
X-HITS:29
X-URL:
X-COLOR:9c9c00
X-SHOW-END-TIME:1
END:VEVENT
BEGIN:VEVENT
DTSTART;TZID=Asia/Dili:20191204T100000
DTEND;TZID=Asia/Dili:20191204T110000
UID:7F1418D6-0B49-42D1-95D8-EFDD2C0E7FC6
SUMMARY:Talkshow - Importánsia existensia jornalista ba pás iha kontestu Timor-Leste
CREATED:20190712T014743Z
DTSTAMP:20190712T014743Z
DESCRIPTION:Programa Debate Televizivu “Liberdade Imprensa Ha’u Nia Liberdade,” iha kanál RTTL,EP.\N\N\N\N\NOn-air :\N4/12/2019)\N\N\NImportánsia existensia jornalista ba pás iha kontestu Timor-Leste\N\N\NDiretór DCSRIC Altino d.c Freitas\NAsesór Rigobertu Monteiru\N\N\NCI\NMedia nain\NSECOMS\N\N\N\N\NON AIR iha RTTL.EP Oras :\NDader : 10:00 - 11:00\NKalan : 21:00 - 22:00
X-ALT-DESC;FMTTYPE=text/html:<p><strong>Programa Debate Televizivu “Liberdade Imprensa Ha’u Nia Liberdade,” iha kanál RTTL,EP.</strong></p><table width="680"><tbody><tr><td width="104"><br /><p>On-air :</p><p>4/12/2019)</p></td><td width="227"><p>Importánsia existensia jornalista ba pás iha kontestu Timor-Leste</p></td><td width="217"><p>Diretór DCSRIC Altino d.c Freitas</p><p>Asesór Rigobertu Monteiru</p></td><td width="132"><p>CI</p><p>Media nain</p><p>SECOMS</p></td></tr></tbody></table><p>ON AIR iha RTTL.EP Oras :</p><p>Dader : 10:00 - 11:00</p><p>Kalan : 21:00 - 22:00</p>
LOCATION:Caicoli\, Dili\, Timor-Leste Timor-Leste
GEO:-8.55685570;125.56031430
X-ACCESS:1
X-HITS:12
X-URL:
X-COLOR:9c9c00
X-SHOW-END-TIME:1
END:VEVENT
BEGIN:VEVENT
DTSTART;TZID=Asia/Dili:20191218T100000
DTEND;TZID=Asia/Dili:20191218T110000
UID:ED6C4BE3-8030-446B-B47F-9F941E47ADAD
SUMMARY:Talkshow - Progresu 2019 no Planu aksaun CI iha tinan 2020
CREATED:20190712T015108Z
DTSTAMP:20190712T015108Z
DESCRIPTION:Programa Debate Televizivu “Liberdade Imprensa Ha’u Nia Liberdade,” iha kanál RTTL,EP.\N\N\N\N\NOn-air :\N18/12/2019)\N\N\NProgresu 2019 no Planu aksaun CI iha tinan 2020\N\N\NDiretór DCSRIC Altino d.c Freitas\NAsesór Rigobertu Monteiru\N\N\NCI\NMedia nain\NSECOMS\NAJAR\N\N\N\N\NON AIR iha RTTL.EP Oras :\NDader : 10:00 - 11:00\NKalan : 21:00 - 22:00
X-ALT-DESC;FMTTYPE=text/html:<p><strong>Programa Debate Televizivu “Liberdade Imprensa Ha’u Nia Liberdade,” iha kanál RTTL,EP.</strong></p><table width="680"><tbody><tr><td width="104"><br /><p>On-air :</p><p>18/12/2019)</p></td><td width="227"><p>Progresu 2019 no Planu aksaun CI iha tinan 2020</p></td><td width="217"><p>Diretór DCSRIC Altino d.c Freitas</p><p>Asesór Rigobertu Monteiru</p></td><td width="132"><p>CI</p><p>Media nain</p><p>SECOMS</p><p>AJAR</p></td></tr></tbody></table><p>ON AIR iha RTTL.EP Oras :</p><p>Dader : 10:00 - 11:00</p><p>Kalan : 21:00 - 22:00</p>
LOCATION:Caicoli\, Dili\, Timor-Leste Timor-Leste
GEO:-8.55685570;125.56031430
X-ACCESS:1
X-HITS:11
X-URL:
X-COLOR:9c9c00
X-SHOW-END-TIME:1
END:VEVENT
END:VCALENDAR