BEGIN:VCALENDAR
VERSION:2.0
PRODID:DPCALENDAR
CALSCALE:GREGORIAN
BEGIN:VTIMEZONE
TZID:Asia/Dili
END:VTIMEZONE
X-WR-TIMEZONE:Asia/Dili
BEGIN:VEVENT
DTSTART;TZID=Asia/Dili:20180301T140000
DTEND;TZID=Asia/Dili:20180301T173000
UID:15179390-7EEA-40AF-8A45-03D767BA9A60
SUMMARY:Jurnalism training on interview techniques
CREATED:20180302T055409Z
DTSTAMP:20180302T055409Z
DESCRIPTION:
X-ALT-DESC;FMTTYPE=text/html:
LOCATION:Avenida Nicolau Lobatu\, Dili\, Timor-Leste Timor-Leste
GEO:-8.55685570;125.56031430
LAST-MODIFIED:20180302T055812Z
SEQUENCE:243
X-ACCESS:1
X-HITS:0
X-URL:
X-COLOR:22751c
X-SHOW-END-TIME:1
END:VEVENT
BEGIN:VEVENT
DTSTART;TZID=Asia/Dili:20180302T140000
DTEND;TZID=Asia/Dili:20180302T173000
UID:C6270A4B-A011-449A-9A42-647A6F74055A
SUMMARY:1st On-site observation/interviewing on education
CREATED:20180302T060157Z
DTSTAMP:20180302T060157Z
DESCRIPTION:
X-ALT-DESC;FMTTYPE=text/html:
LOCATION:Avenida Bispo de Medeiros\, Dili\, Timor-Leste Timor-Leste
GEO:-8.56172790;125.58035680
X-ACCESS:1
X-HITS:107
X-URL:
X-COLOR:22751c
X-SHOW-END-TIME:1
END:VEVENT
BEGIN:VEVENT
DTSTART;TZID=Asia/Dili:20180308T140000
DTEND;TZID=Asia/Dili:20180308T173000
UID:D2773F91-F413-408F-AC72-2C315E132F8A
SUMMARY:Critical thinking on Education
CREATED:20180302T060332Z
DTSTAMP:20180302T060332Z
DESCRIPTION:
X-ALT-DESC;FMTTYPE=text/html:
LOCATION:Avenida Nicolau Lobatu\, Dili\, Timor-Leste Timor-Leste
GEO:-8.55685570;125.56031430
X-ACCESS:1
X-HITS:201
X-URL:
X-COLOR:22751c
X-SHOW-END-TIME:1
END:VEVENT
BEGIN:VEVENT
DTSTART;TZID=Asia/Dili:20180309T140000
DTEND;TZID=Asia/Dili:20180309T173000
UID:6BF1EFFD-EFEE-48FE-97F4-279EB3054EB9
SUMMARY:TV Debate 1 on Education
CREATED:20180302T060513Z
DTSTAMP:20180302T060513Z
DESCRIPTION:
X-ALT-DESC;FMTTYPE=text/html:
LOCATION:Caicoli\, Dili\, Timor-Leste Timor-Leste
GEO:-8.55685570;125.56031430
X-ACCESS:1
X-HITS:188
X-URL:
X-COLOR:22751c
X-SHOW-END-TIME:1
END:VEVENT
BEGIN:VEVENT
DTSTART;TZID=Asia/Dili:20180315T090000
DTEND;TZID=Asia/Dili:20180315T173000
UID:9544C301-0533-42A3-9808-237E754DF254
SUMMARY:Jurnalism training on Media law court reporting 
CREATED:20180302T060704Z
DTSTAMP:20180302T060704Z
DESCRIPTION:
X-ALT-DESC;FMTTYPE=text/html:
LOCATION:Avenida Nicolau Lobatu\, Dili\, Timor-Leste Timor-Leste
GEO:-8.55685570;125.56031430
X-ACCESS:1
X-HITS:234
X-URL:
X-COLOR:22751c
X-SHOW-END-TIME:1
END:VEVENT
BEGIN:VEVENT
DTSTART;TZID=Asia/Dili:20180316T140000
DTEND;TZID=Asia/Dili:20180316T173000
UID:9936ECFA-074D-4489-B3A8-0CDEC082A64B
SUMMARY:2nd On-site observation/interviewing on health
CREATED:20180302T060822Z
DTSTAMP:20180302T060822Z
DESCRIPTION:
X-ALT-DESC;FMTTYPE=text/html:
LOCATION:Avenida Bispo de Medeiros\, Dili\, Timor-Leste Timor-Leste
GEO:-8.56172790;125.58035680
X-ACCESS:1
X-HITS:230
X-URL:
X-COLOR:22751c
X-SHOW-END-TIME:1
END:VEVENT
BEGIN:VEVENT
DTSTART;TZID=Asia/Dili:20180322T140000
DTEND;TZID=Asia/Dili:20180322T173000
UID:A4DA4ED8-2920-414B-9A4A-6EE3A866D595
SUMMARY:Critical thingking on Health 
CREATED:20180302T061254Z
DTSTAMP:20180302T061254Z
DESCRIPTION:
X-ALT-DESC;FMTTYPE=text/html:
X-ACCESS:1
X-HITS:265
X-URL:
X-COLOR:22751c
X-SHOW-END-TIME:1
END:VEVENT
BEGIN:VEVENT
DTSTART;TZID=Asia/Dili:20180323T140000
DTEND;TZID=Asia/Dili:20180323T173000
UID:E4022A19-A6F0-4D2B-A43C-97131E9365BB
SUMMARY:TV Debate 2 on Health 
CREATED:20180302T061413Z
DTSTAMP:20180302T061413Z
DESCRIPTION:
X-ALT-DESC;FMTTYPE=text/html:
LOCATION:Caicoli\, Dili\, Timor-Leste Timor-Leste
GEO:-8.55685570;125.56031430
X-ACCESS:1
X-HITS:297
X-URL:
X-COLOR:22751c
X-SHOW-END-TIME:1
END:VEVENT
BEGIN:VEVENT
DTSTART;TZID=Asia/Dili:20180405T090000
DTEND;TZID=Asia/Dili:20180405T173000
UID:6F70D0DB-9B47-443D-937D-77E9DEA0FA12
SUMMARY:Jurnalism training on Ethics for Journalism
CREATED:20180302T061534Z
DTSTAMP:20180302T061534Z
DESCRIPTION:
X-ALT-DESC;FMTTYPE=text/html:
LOCATION:Avenida Nicolau Lobatu\, Dili\, Timor-Leste Timor-Leste
GEO:-8.55685570;125.56031430
X-ACCESS:1
X-HITS:299
X-URL:
X-COLOR:22751c
X-SHOW-END-TIME:1
END:VEVENT
BEGIN:VEVENT
DTSTART;TZID=Asia/Dili:20180406T140000
DTEND;TZID=Asia/Dili:20180406T173000
UID:F1ED81E1-4D8E-488B-A53D-02DCA105EAE0
SUMMARY:3rd On-site observation/interviewing 
CREATED:20180302T061636Z
DTSTAMP:20180302T061636Z
DESCRIPTION:
X-ALT-DESC;FMTTYPE=text/html:
X-ACCESS:1
X-HITS:259
X-URL:
X-COLOR:22751c
X-SHOW-END-TIME:1
END:VEVENT
BEGIN:VEVENT
DTSTART;TZID=Asia/Dili:20180412T140000
DTEND;TZID=Asia/Dili:20180412T173000
UID:ED28628C-43F9-4395-906F-7BC6B9127973
SUMMARY:Critical thingking on Election and Democracy
CREATED:20180302T061745Z
DTSTAMP:20180302T061745Z
DESCRIPTION:
X-ALT-DESC;FMTTYPE=text/html:
LOCATION:Avenida Nicolau Lobatu\, Dili\, Timor-Leste Timor-Leste
GEO:-8.55685570;125.56031430
X-ACCESS:1
X-HITS:255
X-URL:
X-COLOR:22751c
X-SHOW-END-TIME:1
END:VEVENT
BEGIN:VEVENT
DTSTART;TZID=Asia/Dili:20180413T140000
DTEND;TZID=Asia/Dili:20180413T173000
UID:EC1D39F0-3644-494E-84F0-8BF41183C494
SUMMARY:TV Debate 3 on Election and Democary
CREATED:20180302T061903Z
DTSTAMP:20180302T061903Z
DESCRIPTION:
X-ALT-DESC;FMTTYPE=text/html:
LOCATION:Caicoli\, Dili\, Timor-Leste Timor-Leste
GEO:-8.55685570;125.56031430
X-ACCESS:1
X-HITS:282
X-URL:
X-COLOR:22751c
X-SHOW-END-TIME:1
END:VEVENT
BEGIN:VEVENT
DTSTART;TZID=Asia/Dili:20180419T140000
DTEND;TZID=Asia/Dili:20180419T173000
UID:54B58A04-CE0B-448B-9B7A-27D3BBA5042C
SUMMARY:Journalism training on How to develop stories
CREATED:20180302T062444Z
DTSTAMP:20180302T062444Z
DESCRIPTION:
X-ALT-DESC;FMTTYPE=text/html:
LOCATION:Avenida Nicolau Lobatu\, Dili\, Timor-Leste Timor-Leste
GEO:-8.55685570;125.56031430
X-ACCESS:1
X-HITS:284
X-URL:
X-COLOR:22751c
X-SHOW-END-TIME:1
END:VEVENT
BEGIN:VEVENT
DTSTART;TZID=Asia/Dili:20180420T140000
DTEND;TZID=Asia/Dili:20180420T173000
UID:E3711BDA-E806-477E-A473-0D7EF60297DA
SUMMARY:4th On-site observation/interviewing 
CREATED:20180302T062627Z
DTSTAMP:20180302T062627Z
DESCRIPTION:
X-ALT-DESC;FMTTYPE=text/html:
X-ACCESS:1
X-HITS:261
X-URL:
X-COLOR:22751c
X-SHOW-END-TIME:1
END:VEVENT
BEGIN:VEVENT
DTSTART;TZID=Asia/Dili:20180426T140000
DTEND;TZID=Asia/Dili:20180426T173000
UID:D59892A3-4B44-4323-ADE4-A915681C0DCF
SUMMARY:Critical thingking on Infrastructure 
CREATED:20180302T062743Z
DTSTAMP:20180302T062743Z
DESCRIPTION:
X-ALT-DESC;FMTTYPE=text/html:
LOCATION:Avenida Nicolau Lobatu\, Dili\, Timor-Leste Timor-Leste
GEO:-8.55685570;125.56031430
X-ACCESS:1
X-HITS:266
X-URL:
X-COLOR:22751c
X-SHOW-END-TIME:1
END:VEVENT
BEGIN:VEVENT
DTSTART;TZID=Asia/Dili:20180427T140000
DTEND;TZID=Asia/Dili:20180427T173000
UID:87AC8D95-1F9C-4AAB-8051-CAA029A53B2A
SUMMARY:TV Debate 4 on Infrastructure 
CREATED:20180302T062858Z
DTSTAMP:20180302T062858Z
DESCRIPTION:
X-ALT-DESC;FMTTYPE=text/html:
LOCATION:Caicoli\, Dili\, Timor-Leste Timor-Leste
GEO:-8.55685570;125.56031430
X-ACCESS:1
X-HITS:274
X-URL:
X-COLOR:22751c
X-SHOW-END-TIME:1
END:VEVENT
BEGIN:VEVENT
DTSTART;TZID=Asia/Dili:20191111T083000
DTEND;TZID=Asia/Dili:20191111T090000
UID:481550C7-24B4-413B-9336-A9EBBDFD31E5
SUMMARY:Formasaun FDHC
CREATED:20191024T012744Z
DTSTAMP:20191024T012744Z
DESCRIPTION:
X-ALT-DESC;FMTTYPE=text/html:
LAST-MODIFIED:20191024T012805Z
SEQUENCE:21
X-ACCESS:1
X-HITS:14
X-URL:
X-COLOR:22751c
X-SHOW-END-TIME:1
END:VEVENT
END:VCALENDAR