BEGIN:VCALENDAR
VERSION:2.0
PRODID:DPCALENDAR
CALSCALE:GREGORIAN
BEGIN:VTIMEZONE
TZID:Asia/Dili
END:VTIMEZONE
X-WR-TIMEZONE:Asia/Dili
BEGIN:VEVENT
DTSTART;TZID=Asia/Dili:20180313T170000
DTEND;TZID=Asia/Dili:20180313T203000
UID:52B0C4DE-C94B-4C4C-B307-BCA06526195E
SUMMARY:Ajenda ba Serimónia Lansamentu Projetu “Hametin Mekanismu Auto-Regulasaun Mídia iha Timor-Leste” 
CREATED:20180301T053621Z
DTSTAMP:20180301T053621Z
DESCRIPTION:Konvidadu:\N\NPrimeiru Ministru Timor-Leste\NSecretario do Estado de Conselho de Ministro e Comunicação Social\NPrezidente de ANC\NProkuradór Jerál Timor-Leste\NEmbaixadór/a Embaixada sira\NReprezentante hosi Ministerio do Negoçio Estrangeiros e Cooperação\NReprezentante hosi Minsterio das Finanças\NXefe Editór\NJornalista\NMedia nain\N\N\N\N\N\NNu\N\N\NÓras\N\N\NAktividade\N\N\NSe\N\N\N\N\N \N1\N\N\N \N17:00-17:30\N\N\N \NSimu Konvidadu\N\N\NKomisaun Organizadora\N\N\N\N\N \N2\N\N\N \N17:30-17:35\N\N\N \NIntrodusaun Programa\N\N\NProtokolu\N\N\N\N\N \N3\N\N\N \N17:35-17:50\N\N\N \NBenvindu no Aprezentasaun rezultadu enkontru parseiru interesadu iha 24/01/2018\N\N\NSr. José Maria Ximenes\NMembru CI\N\N\N\N\N \N4\N\N\N \N17:50-18: 00\N\N\N \NIntervensaun hosi Diretór no reprezentante grupu edifísiu UNESCO JAKARTA\N\N\NProf. Dr. Shahbaz Khan\N \N\N\N\N\N \N5\N\N\N18:00-18:10\N\N\N \NIntervensaun hosi Prezidente Conselho de Imprensa\N\N\NSr. Virgílio da Silva Guterres\N\N\N\N\N \N6\N\N\N \N18:10-18:20\N\N\N \NIntervensaun hosi Xefe Departementu Polítiku, Reprezentante hosi Embaixada Olanda\N\N\NProf. Dr. Roel van der Veen\N\N\N\N\N \N7\N\N\N \N18:20-18:30\N\N\N \NIntervensaun hosi Primeiru Ministru Timor-Leste\N\N\NDr. Marí Bim Amude Alkatiri\N\N\N\N\N \N8\N\N\N \N18:30-18:45\N\N\N \NLansamentu projetu\N\N\NCI, UNESCO, Netherlands Embassy no Parseiru\N\N\N\N\N \N9\N\N\N18:45-19:00\N\N\N \NAsina Nota Intendimentu\N\N\NUNESCO,CI,UNTL no UNITAL\N\N\N\N\N \N10\N\N\N19:00-20:30\N\N\N \NHan Kalan\N \N\N\NKonvidadus\N \N\N\N\N\N \N11\N\N\N \N20:30\N\N\N \NRemata Seremónia\N\N\NProtokolu\N\N\N\N\N \N\NAgenda for Launching Ceremony of the Project of\N“Strengthening Media Self-Regulatory Mechanisms in Timor-Leste” \N \NDate: 13 March 2018, Tuesday\NVenue: El-Legendariu, Novu Tourizmu\N \NGuest:\N\NPrime minister of Timor-Leste\NSecretary of State for Council of Ministers and Social Communication\NChairman of National Communication Authority\NGeneral Prosecutor of Timor-Leste\NAmbassador of embassies\NThe Representative of Foreign Ministry\NThe Representative of Finance Ministry\NChief editor of Media\NJournalist\NOwner of Media\N\N\N\N\N\NNo\N\N\NTime\N\N\NActivities\N\N\NBy\N \N\N\N\N\N \N1\N\N\N \N17:00-17:30\N\N\N                       \NWelcome Guest\N\N\N \NOrganizing Committee\N\N\N\N\N \N2\N\N\N \N17:30-17:35\N\N\N \NProgram Introduction\N\N\N \NProtocol\N\N\N\N\N \N3\N\N\N \N17:35-17:50\N\N\N \NWelcome program + presentation of the stakeholder meeting result\N\N\N \NMr. José Maria Ximenes\NCounselor of TLPC\N\N\N\N\N \N4\N\N\N \N17:50-18: 00\N\N\N \NSpeech by Chairman of Timor-Leste Press Council\N\N\N \NMr. Virgílio da Silva Guterres\N\N\N\N\N5\N\N\N18:00-18:10\N\N\N \NSpeech by Director and Representative of UNESCO Cluster Office\N\N\N \NProf. Dr. Shahbaz Khan\N \N\N\N\N\N \N6\N\N\N \N18:10-18:20\N\N\N \NSpeech by Head of Political Department and Representative of Embassy of the Kingdom of the Netherlands\N\N\N \NProf. Dr. Roel van der Veen\N\N\N\N\N \N8\N\N\N \N18:20-18:30\N\N\NSpeech by Secretary of State for Council of Ministers and Social Communication\N\N\N \NMr. Matías Freitas Boavida \N\N\N\N\N \N10\N\N\N \N18:30-18:45\N\N\N \NOfficial Project Launching\N\N\N \NTLPC, UNESCO, Netherlands Embassy and stakeholders\N \N\N\N\N\N11\N\N\N18:45-19:00\N\N\NSigning of Letter of intent  \N\N\NTLPC,UNESCO UNTL and UNITAL\N\N\N\N\N12\N\N\N19:00-20:30\N\N\NDinner\N \N\N\NAll Participants\N \N\N\N\N\N13\N\N\N \N20:30\N\N\N \NClosing ceremony\N\N\N \NProtocol\N\N\N\N\N \N 
X-ALT-DESC;FMTTYPE=text/html:<p>Konvidadu:</p><ul><li>Primeiru Ministru Timor-Leste</li><li>Secretario do Estado de Conselho de Ministro e Comunicação Social</li><li>Prezidente de ANC</li><li>Prokuradór Jerál Timor-Leste</li><li>Embaixadór/a Embaixada sira</li><li>Reprezentante hosi Ministerio do Negoçio Estrangeiros e Cooperação</li><li>Reprezentante hosi Minsterio das Finanças</li><li>Xefe Editór</li><li>Jornalista</li><li>Media nain</li></ul><table width="666"><tbody><tr><td width="36"><p>Nu</p></td><td width="101"><p>Óras</p></td><td width="331"><p>Aktividade</p></td><td width="198"><p>Se</p></td></tr><tr><td width="36"><p><strong> </strong></p><p><strong>1</strong></p></td><td width="101"><p> </p><p>17:00-17:30</p></td><td width="331"><p> </p><p>Simu Konvidadu</p></td><td width="198"><p>Komisaun Organizadora</p></td></tr><tr><td width="36"><p><strong> </strong></p><p><strong>2</strong></p></td><td width="101"><p> </p><p>17:30-17:35</p></td><td width="331"><p> </p><p>Introdusaun Programa</p></td><td width="198"><p>Protokolu</p></td></tr><tr><td width="36"><p><strong> </strong></p><p><strong>3</strong></p></td><td width="101"><p> </p><p>17:35-17:50</p></td><td width="331"><p> </p><p>Benvindu no Aprezentasaun rezultadu enkontru parseiru interesadu iha 24/01/2018</p></td><td width="198"><p>Sr. José Maria Ximenes</p><p>Membru CI</p></td></tr><tr><td width="36"><p><strong> </strong></p><p><strong>4</strong></p></td><td width="101"><p> </p><p>17:50-18: 00</p></td><td width="331"><p> </p><p>Intervensaun hosi Diretór no reprezentante grupu edifísiu UNESCO JAKARTA</p></td><td width="198"><p>Prof. Dr. Shahbaz Khan</p><p> </p></td></tr><tr><td width="36"><p><strong> </strong></p><p><strong>5</strong></p></td><td width="101"><p>18:00-18:10</p></td><td width="331"><p> </p><p>Intervensaun hosi Prezidente Conselho de Imprensa</p></td><td width="198"><p>Sr. Virgílio da Silva Guterres</p></td></tr><tr><td width="36"><p><strong> </strong></p><p><strong>6</strong></p></td><td width="101"><p> </p><p>18:10-18:20</p></td><td width="331"><p> </p><p>Intervensaun hosi Xefe Departementu Polítiku, Reprezentante hosi Embaixada Olanda</p></td><td width="198"><p>Prof. Dr. Roel van der Veen</p></td></tr><tr><td width="36"><p><strong> </strong></p><p><strong>7</strong></p></td><td width="101"><p> </p><p>18:20-18:30</p></td><td width="331"><p> </p><p>Intervensaun hosi Primeiru Ministru Timor-Leste</p></td><td width="198"><p>Dr. Marí Bim Amude Alkatiri</p></td></tr><tr><td width="36"><p><strong> </strong></p><p><strong>8</strong></p></td><td width="101"><p> </p><p>18:30-18:45</p></td><td width="331"><p> </p><p>Lansamentu projetu</p></td><td width="198"><p>CI, UNESCO, Netherlands Embassy no Parseiru</p></td></tr><tr><td width="36"><p><strong> </strong></p><p><strong>9</strong></p></td><td width="101"><p>18:45-19:00</p></td><td width="331"><p> </p><p>Asina Nota Intendimentu</p></td><td width="198"><p>UNESCO,CI,UNTL no UNITAL</p></td></tr><tr><td width="36"><p><strong> </strong></p><p><strong>10</strong></p></td><td width="101"><p>19:00-20:30</p></td><td width="331"><p> </p><p>Han Kalan</p><p> </p></td><td width="198"><p>Konvidadus</p><p> </p></td></tr><tr><td width="36"><p><strong> </strong></p><p><strong>11</strong></p></td><td width="101"><p> </p><p>20:30</p></td><td width="331"><p> </p><p>Remata Seremónia</p></td><td width="198"><p>Protokolu</p></td></tr></tbody></table><p><strong> </strong></p><hr /><p><strong>Agenda for Launching Ceremony of the Project of</strong></p><p><strong>“Strengthening Media Self-Regulatory Mechanisms in Timor-Leste” </strong></p><p><strong> </strong></p><p>Date: 13 March 2018, Tuesday</p><p>Venue: El-Legendariu, Novu Tourizmu</p><p> </p><p>Guest:</p><ul><li>Prime minister of Timor-Leste</li><li>Secretary of State for Council of Ministers and Social Communication</li><li>Chairman of National Communication Authority</li><li>General Prosecutor of Timor-Leste</li><li>Ambassador of embassies</li><li>The Representative of Foreign Ministry</li><li>The Representative of Finance Ministry</li><li>Chief editor of Media</li><li>Journalist</li><li>Owner of Media</li></ul><table width="655"><tbody><tr><td width="37"><p><strong>No</strong></p></td><td width="102"><p><strong>Time</strong></p></td><td width="318"><p><strong>Activities</strong></p></td><td width="198"><p><strong>By</strong></p><p><strong> </strong></p></td></tr><tr><td width="37"><p> </p><p>1</p></td><td width="102"><p> </p><p>17:00-17:30</p></td><td width="318"><p>                       </p><p>Welcome Guest</p></td><td width="198"><p><strong> </strong></p><p><strong>Organizing Committee</strong></p></td></tr><tr><td width="37"><p> </p><p>2</p></td><td width="102"><p> </p><p>17:30-17:35</p></td><td width="318"><p> </p><p>Program Introduction</p></td><td width="198"><p><strong> </strong></p><p><strong>Protocol</strong></p></td></tr><tr><td width="37"><p> </p><p>3</p></td><td width="102"><p> </p><p>17:35-17:50</p></td><td width="318"><p> </p><p>Welcome program + presentation of the stakeholder meeting result</p></td><td width="198"><p><strong> </strong></p><p><strong>Mr. José Maria Ximenes</strong></p><p><strong>Counselor of TLPC</strong></p></td></tr><tr><td width="37"><p> </p><p>4</p></td><td width="102"><p> </p><p>17:50-18: 00</p></td><td width="318"><p> </p><p>Speech by Chairman of Timor-Leste Press Council</p></td><td width="198"><p><strong> </strong></p><p><strong>Mr. Virgílio da Silva Guterres</strong></p></td></tr><tr><td width="37"><p>5</p></td><td width="102"><p>18:00-18:10</p></td><td width="318"><p> </p><p>Speech by Director and Representative of UNESCO Cluster Office</p></td><td width="198"><p><strong> </strong></p><p><strong>Prof. Dr. Shahbaz Khan</strong></p><p><strong> </strong></p></td></tr><tr><td width="37"><p> </p><p>6</p></td><td width="102"><p> </p><p>18:10-18:20</p></td><td width="318"><p> </p><p>Speech by Head of Political Department and Representative of Embassy of the Kingdom of the Netherlands</p></td><td width="198"><p><strong> </strong></p><p><strong>Prof. Dr. Roel van der Veen</strong></p></td></tr><tr><td width="37"><p> </p><p>8</p></td><td width="102"><p> </p><p>18:20-18:30</p></td><td width="318"><p>Speech by Secretary of State for Council of Ministers and Social Communication</p></td><td width="198"><p><strong> </strong></p><p><strong>Mr. Matías Freitas Boavida </strong></p></td></tr><tr><td width="37"><p> </p><p>10</p></td><td width="102"><p> </p><p>18:30-18:45</p></td><td width="318"><p> </p><p>Official Project Launching</p></td><td width="198"><p><strong> </strong></p><p><strong>TLPC, UNESCO, Netherlands Embassy and stakeholders</strong></p><p><strong> </strong></p></td></tr><tr><td width="37"><p>11</p></td><td width="102"><p>18:45-19:00</p></td><td width="318"><p>Signing of Letter of intent  </p></td><td width="198"><p><strong>TLPC,UNESCO UNTL and UNITAL</strong></p></td></tr><tr><td width="37"><p>12</p></td><td width="102"><p>19:00-20:30</p></td><td width="318"><p>Dinner</p><p> </p></td><td width="198"><p><strong>All Participants</strong></p><p><strong> </strong></p></td></tr><tr><td width="37"><p>13</p></td><td width="102"><p> </p><p>20:30</p></td><td width="318"><p> </p><p>Closing ceremony</p></td><td width="198"><p><strong> </strong></p><p><strong>Protocol</strong></p></td></tr></tbody></table><p> </p><p><strong> </strong></p>
LOCATION:Dili\, Timor-Leste Timor-Leste
GEO:-8.87421700;125.72753900
LAST-MODIFIED:20180301T055313Z
SEQUENCE:1012
X-ACCESS:1
X-HITS:269
X-URL:
X-COLOR:076104
X-SHOW-END-TIME:1
END:VEVENT
BEGIN:VEVENT
DTSTART;TZID=Asia/Dili:20191220T083000
DTEND;TZID=Asia/Dili:20191220T173000
UID:F606A318-C712-46BD-88E9-0495F3112046
SUMMARY:Lansamentu Keixa Online,Atribui karteira profesinal no Asina MoU CI-PNTL
CREATED:20191024T014554Z
DTSTAMP:20191024T014554Z
DESCRIPTION:
X-ALT-DESC;FMTTYPE=text/html:
LAST-MODIFIED:20191024T014613Z
SEQUENCE:19
X-ACCESS:1
X-HITS:0
X-URL:
X-COLOR:076104
X-SHOW-END-TIME:1
END:VEVENT
END:VCALENDAR