BEGIN:VCALENDAR
VERSION:2.0
PRODID:DPCALENDAR
CALSCALE:GREGORIAN
BEGIN:VTIMEZONE
TZID:Asia/Dili
END:VTIMEZONE
X-WR-TIMEZONE:Asia/Dili
BEGIN:VEVENT
DTSTART;VALUE=DATE:20170509
DTEND;VALUE=DATE:20170511
UID:5AB5305B-13DA-49CD-8146-74C569765707
SUMMARY:Dies Natalies - Conselho de Imprensa
CREATED:20170421T003838Z
DTSTAMP:20170421T003838Z
DESCRIPTION:Agenda Atividade  no ToR\NKonferensia Internasional
X-ALT-DESC;FMTTYPE=text/html:<h1>Agenda Atividade  no ToR</h1><p><a href="index.php?option=com_content&amp;view=article&amp;id=243&amp;catid=96&amp;lang=pt-BR&amp;Itemid=1436" hreflang="pt">Konferensia Internasional</a></p>
LOCATION:Dili\, Timor-Leste Timor-Leste
GEO:-8.55685570;125.56031430
LAST-MODIFIED:20170421T012904Z
SEQUENCE:3026
X-ACCESS:1
X-HITS:549
X-URL:
X-COLOR:33cc4d
X-SHOW-END-TIME:1
END:VEVENT
END:VCALENDAR