BEGIN:VCALENDAR
VERSION:2.0
PRODID:DPCALENDAR
CALSCALE:GREGORIAN
BEGIN:VTIMEZONE
TZID:Asia/Dili
END:VTIMEZONE
X-WR-TIMEZONE:Asia/Dili
BEGIN:VEVENT
DTSTART;VALUE=DATE:20170227
DTEND;VALUE=DATE:20170328
UID:1C9CC0F2-F0E9-4EED-B0A1-AB0DBFD42429
SUMMARY:Esbosu Prosdimentu ba ezersisiu diretu hatan no rektifikasaun no Prosedimentu Dixiplinar hasoru Jornalista sira no publikasaun sira
CREATED:20170317T023407Z
DTSTAMP:20170317T023407Z
DESCRIPTION:{jd_file file==37}\N{jd_file file==38}\N{jd_file file==39}\N{jd_file file==40}\N{jd_file file==41}
X-ALT-DESC;FMTTYPE=text/html:<p>{jd_file file==37}</p><p>{jd_file file==38}</p><p>{jd_file file==39}</p><p>{jd_file file==40}</p><p>{jd_file file==41}</p>
LOCATION:Avenida Bispo de Medeiros\, Dili\, Timor-Leste Timor-Leste
GEO:-8.56172790;125.58035680
LAST-MODIFIED:20170317T025745Z
SEQUENCE:1418
X-ACCESS:1
X-HITS:404
X-URL:https://www.conselhoimprensa.tl
X-COLOR:b533cc
X-SHOW-END-TIME:1
END:VEVENT
BEGIN:VEVENT
DTSTART;VALUE=DATE:20170317
DTEND;VALUE=DATE:20170418
UID:A3C0AACD-7701-4A8F-9F92-A277EDF9EFD9
SUMMARY:Esbosu Regulamentu husi Knaar Profisional jornalista nian no Regulamentu kona ba regra sira ne'ebe bele aplika ba ezame final Estajiu nian no entidade examinador sira iha Republika Demokratika Timor-Leste 
CREATED:20170317T024638Z
DTSTAMP:20170317T024638Z
DESCRIPTION:{jd_file file==42}\N{jd_file file==43}\N{jd_file file==44}\N{jd_file file==45}\N{jd_file file==46}\N 
X-ALT-DESC;FMTTYPE=text/html:<p>{jd_file file==42}</p><p>{jd_file file==43}</p><p>{jd_file file==44}</p><p>{jd_file file==45}</p><p>{jd_file file==46}</p><p> </p>
LAST-MODIFIED:20170317T024907Z
SEQUENCE:149
X-ACCESS:1
X-HITS:393
X-URL:https://www.conselhoimprensa.tl/
X-COLOR:b533cc
X-SHOW-END-TIME:1
END:VEVENT
BEGIN:VEVENT
DTSTART;TZID=Asia/Dili:20191115T083000
DTEND;TZID=Asia/Dili:20191215T173000
UID:2B2BDAD1-430A-4296-AC0C-6EC9AA49CEA6
SUMMARY:Renovasaun Karteira Profisionál Jornalista
CREATED:20191114T015531Z
DTSTAMP:20191114T015531Z
DESCRIPTION:AVIZU\NFó hatene ba Jornalista ne’ebé simu ona karteira profisionál katak ita boot nia karteira profisionál sei inválidu iha dia 20 dezembru tinan ne’e. Tan ne’e Conselho de Imprensa loke periodu renovasaun karteira profisionál hahú husi loron 15 Novembru to’o 15 Dezembru 2019 durante oras servisu.\NRekezitu ne’ebé persiza kompleta atu hodi prosesa karteira profisionál foun maka hanesan tuir mai ne’e:\N\NKarteira Profisionál tuan\NFoto koloridu 4x3 tahan 1\N\NBa ita boot sira nia atensaun ami hato’o obrigadu\NConselho de Imprensa
X-ALT-DESC;FMTTYPE=text/html:<p><strong><u>AVIZU</u></strong></p><p>Fó hatene ba Jornalista ne’ebé simu ona karteira profisionál katak ita boot nia karteira profisionál sei inválidu iha dia 20 dezembru tinan ne’e. Tan ne’e Conselho de Imprensa loke periodu renovasaun karteira profisionál hahú husi loron 15 Novembru to’o 15 Dezembru 2019 durante oras servisu.</p><p>Rekezitu ne’ebé persiza kompleta atu hodi prosesa karteira profisionál foun maka hanesan tuir mai ne’e:</p><ol><li>Karteira Profisionál tuan</li><li>Foto koloridu 4x3 tahan 1</li></ol><p>Ba ita boot sira nia atensaun ami hato’o obrigadu</p><p><strong>Conselho</strong><strong> de Imprensa</strong></p>
LOCATION:Avenida Bispo de Medeiros\, Dili\, Timor-Leste Timor-Leste
GEO:-8.56172790;125.58035680
LAST-MODIFIED:20191114T015735Z
SEQUENCE:124
X-ACCESS:1
X-HITS:42
X-URL:
X-COLOR:b533cc
X-SHOW-END-TIME:1
END:VEVENT
END:VCALENDAR