BEGIN:VCALENDAR
VERSION:2.0
PRODID:DPCALENDAR
CALSCALE:GREGORIAN
BEGIN:VTIMEZONE
TZID:Asia/Dili
END:VTIMEZONE
X-WR-TIMEZONE:Asia/Dili
BEGIN:VEVENT
DTSTART;TZID=Asia/Dili:20191024T140000
DTEND;TZID=Asia/Dili:20191024T170000
UID:60ECA17C-CED5-4AD1-BD45-6A92A6841F2B
SUMMARY:Programa Kolokiu Publiku husi DDAM 
CREATED:20191024T005148Z
DTSTAMP:20191024T005148Z
DESCRIPTION:
X-ALT-DESC;FMTTYPE=text/html:
LOCATION:Avenida Bispo de Medeiros\, Dili\, Timor-Leste Timor-Leste
GEO:-8.56172790;125.58035680
LAST-MODIFIED:20191024T012313Z
SEQUENCE:1885
X-ACCESS:1
X-HITS:15
X-URL:
X-COLOR:e3451d
X-SHOW-END-TIME:1
END:VEVENT
BEGIN:VEVENT
DTSTART;TZID=Asia/Dili:20191025T090000
DTEND;TZID=Asia/Dili:20191025T120000
UID:A9223DEA-82EE-4E20-9900-7A0B11942499
SUMMARY:Atribuisaun Sertifikadu Programa PFMO
CREATED:20191024T010222Z
DTSTAMP:20191024T010222Z
DESCRIPTION:
X-ALT-DESC;FMTTYPE=text/html:
LAST-MODIFIED:20191024T010235Z
SEQUENCE:13
X-ACCESS:1
X-HITS:15
X-URL:
X-COLOR:e3451d
X-SHOW-END-TIME:1
END:VEVENT
BEGIN:VEVENT
DTSTART;TZID=Asia/Dili:20191216T083000
DTEND;TZID=Asia/Dili:20191216T090000
UID:7A015285-9DEA-485B-BBBA-0CBEAC49A098
SUMMARY:Seminariu KIS
CREATED:20191024T014320Z
DTSTAMP:20191024T014320Z
DESCRIPTION:
X-ALT-DESC;FMTTYPE=text/html:
LAST-MODIFIED:20191024T014325Z
SEQUENCE:5
X-ACCESS:1
X-HITS:0
X-URL:
X-COLOR:e3451d
X-SHOW-END-TIME:1
END:VEVENT
END:VCALENDAR